BEGIN:VCALENDAR
VERSION:2.0
PRODID:-//Equal Parts Brewing - ECPv6.15.17.1//NONSGML v1.0//EN
CALSCALE:GREGORIAN
METHOD:PUBLISH
X-ORIGINAL-URL:https://equalpartsbrewing.com
X-WR-CALDESC:Events for Equal Parts Brewing
REFRESH-INTERVAL;VALUE=DURATION:PT1H
X-Robots-Tag:noindex
X-PUBLISHED-TTL:PT1H
BEGIN:VTIMEZONE
TZID:America/Chicago
BEGIN:DAYLIGHT
TZOFFSETFROM:-0600
TZOFFSETTO:-0500
TZNAME:CDT
DTSTART:20210314T080000
END:DAYLIGHT
BEGIN:STANDARD
TZOFFSETFROM:-0500
TZOFFSETTO:-0600
TZNAME:CST
DTSTART:20211107T070000
END:STANDARD
BEGIN:DAYLIGHT
TZOFFSETFROM:-0600
TZOFFSETTO:-0500
TZNAME:CDT
DTSTART:20220313T080000
END:DAYLIGHT
BEGIN:STANDARD
TZOFFSETFROM:-0500
TZOFFSETTO:-0600
TZNAME:CST
DTSTART:20221106T070000
END:STANDARD
BEGIN:DAYLIGHT
TZOFFSETFROM:-0600
TZOFFSETTO:-0500
TZNAME:CDT
DTSTART:20230312T080000
END:DAYLIGHT
BEGIN:STANDARD
TZOFFSETFROM:-0500
TZOFFSETTO:-0600
TZNAME:CST
DTSTART:20231105T070000
END:STANDARD
BEGIN:DAYLIGHT
TZOFFSETFROM:-0600
TZOFFSETTO:-0500
TZNAME:CDT
DTSTART:20240310T080000
END:DAYLIGHT
BEGIN:STANDARD
TZOFFSETFROM:-0500
TZOFFSETTO:-0600
TZNAME:CST
DTSTART:20241103T070000
END:STANDARD
END:VTIMEZONE
BEGIN:VEVENT
DTSTART;TZID=America/Chicago:20230925T113000
DTEND;TZID=America/Chicago:20230925T130000
DTSTAMP:20260420T070054
CREATED:20230910T182150Z
LAST-MODIFIED:20230928T182315Z
UID:10000069-1695641400-1695646800@equalpartsbrewing.com
SUMMARY:September Mental Health Support Group (FREE)
DESCRIPTION:Stress is no joke.\nWe know you feel it because we feel it too\, and you don’t have to go at it alone.\nWhether you’re grappling with anxiety\, depression\, grief\, or burnout- this support group is made for you. This group is FREE and open to all\, thanks to I’ll Have What She’s Having and Yvonne Champion (LCSW) of Champion Counseling. \nCoffee and brunch provided courtesy of our darling Star Sailor HTX ✨ \n11:30: Brunch + coffee\n11:45: Start group session\n1 pm: Finish group session \nPS: if you’re thinking this group isn’t for you or won’t help- come!\nYou will be surprised at what you walk away with. Invite a friend or share with someone you care about.
URL:https://equalpartsbrewing.com/event/september-mental-health-support-group-free/
LOCATION:Equal Parts Brewing\, 3118 Harrisburg Blvd\, Houston\, TX\, 77003
ATTACH;FMTTYPE=image/png:https://equalpartsbrewing.com/wp-content/uploads/2023/09/IHWSHseptember-e1694370567197.png
END:VEVENT
BEGIN:VEVENT
DTSTART;TZID=America/Chicago:20230729T190000
DTEND;TZID=America/Chicago:20230729T230000
DTSTAMP:20260420T070054
CREATED:20230725T190132Z
LAST-MODIFIED:20240305T011757Z
UID:10000067-1690657200-1690671600@equalpartsbrewing.com
SUMMARY:Entropic Music Festival
DESCRIPTION:  \n  \n 
URL:https://equalpartsbrewing.com/event/entropic-music-festival/
LOCATION:Equal Parts Brewing\, 3118 Harrisburg Blvd\, Houston\, TX\, 77003
ATTACH;FMTTYPE=image/png:https://equalpartsbrewing.com/wp-content/uploads/2023/07/ENTROPIC-music-festival-e1694543497826.png
END:VEVENT
BEGIN:VEVENT
DTSTART;TZID=America/Chicago:20230726T190000
DTEND;TZID=America/Chicago:20230726T220000
DTSTAMP:20260420T070054
CREATED:20230725T151251Z
LAST-MODIFIED:20230725T151840Z
UID:10000066-1690398000-1690408800@equalpartsbrewing.com
SUMMARY:High Desert Queen: Brewery & Dive Tour
DESCRIPTION:  \nHigh Desert Queen starts their “Brewery and Dive Tour” with a BANG! They will be joined by fellow Ripple Music powerhouses Thunder Horse and Fostermother. This will be an early Wednesday night show so you can get to work on time the next day! Plus HDQ will be filming a documentary of their tour so come be a part of history!\n  \nDetails:\n\n7pm- Fostermother https://fostermother.bandcamp.com/\n8pm- Thunder Horse https://thunderhorse.bandcamp.com/album/thunder-horse\n9pm- High Desert Queen www.highdesertqueen.com
URL:https://equalpartsbrewing.com/event/1654/
LOCATION:Equal Parts Brewing\, 3118 Harrisburg Blvd\, Houston\, TX\, 77003
END:VEVENT
BEGIN:VEVENT
DTSTART;TZID=America/Chicago:20230624T120000
DTEND;TZID=America/Chicago:20230625T000000
DTSTAMP:20260420T070054
CREATED:20230614T172116Z
LAST-MODIFIED:20240401T184238Z
UID:10000065-1687608000-1687651200@equalpartsbrewing.com
SUMMARY:Pleasure Cruise: A Cheeky Tiki Adventure
DESCRIPTION:  \n🌞 Saturday\, June 24th   \nTake your tongue on a tropical tour through 6 new flavors of Exotica\, our tiki-inspired beer series. \n🍹The Exotica series allows us to step outside of the brewhouse box and flex our culinary muscles by creating a beer that harnesses the complexity of a tiki cocktail\, but with the character and drinkability of a beer. Each release is unique and well-balanced\, like a cocktail. \n🌴We are transforming our taproom into a tiki bar\, hosting a pig roast + tropical market\, projecting movies for an indoor picnic\, and preparing prizes… \n🌺There will be costume contests! Come dressed in your over-the-top tropical nautical best. \nDetails will be posted to IG stories and the Facebook event page. \nPig roast: 12-6pm \nTropical indoor market: 1-6pm \nBeer can succulents: 2-5pm \nCostume contests + prizes: all day \nIndoor picnic + movie: starts at 7pm \nBring your thirst for adventure and hunger for fun- it’s tiki time!
URL:https://equalpartsbrewing.com/event/pleasure-cruise-a-cheeky-tiki-adventure/
LOCATION:Equal Parts Brewing\, 3118 Harrisburg Blvd\, Houston\, TX\, 77003
ATTACH;FMTTYPE=image/png:https://equalpartsbrewing.com/wp-content/uploads/2023/06/Pleasure-Cruise.07.png
END:VEVENT
BEGIN:VEVENT
DTSTART;TZID=America/Chicago:20220910T120000
DTEND;TZID=America/Chicago:20220910T235900
DTSTAMP:20260420T070054
CREATED:20220819T210531Z
LAST-MODIFIED:20220819T213524Z
UID:10000064-1662811200-1662854340@equalpartsbrewing.com
SUMMARY:Camp Loggerbier
DESCRIPTION:Camp Loggerbier is a celebration of all things lager. Featuring a whole bunch of tasty lagers\, draft only variants of our beloved Loggerbier\, and the release of a canned collab beer with our friends at Pinkerton’s BBQ called Lil’ Smokey\, which features malts they smoked specifically for us. \nChef Brad will be on hand with a few upscale takes on nostalgic bites\, which you can enjoy in front of a giant outdoor movie screen\, playing classic campfire movies all night. Please bring your own chair.
URL:https://equalpartsbrewing.com/event/camp-loggerbier/
LOCATION:Equal Parts Brewing\, 3118 Harrisburg Blvd\, Houston\, TX\, 77003
ATTACH;FMTTYPE=image/jpeg:https://equalpartsbrewing.com/wp-content/uploads/2022/08/Equal-Parts_Promo_Camp-Loggerbier-scaled.jpg
END:VEVENT
END:VCALENDAR