BEGIN:VCALENDAR
VERSION:2.0
PRODID:-//Equal Parts Brewing - ECPv6.15.17.1//NONSGML v1.0//EN
CALSCALE:GREGORIAN
METHOD:PUBLISH
X-ORIGINAL-URL:https://equalpartsbrewing.com
X-WR-CALDESC:Events for Equal Parts Brewing
REFRESH-INTERVAL;VALUE=DURATION:PT1H
X-Robots-Tag:noindex
X-PUBLISHED-TTL:PT1H
BEGIN:VTIMEZONE
TZID:America/Chicago
BEGIN:DAYLIGHT
TZOFFSETFROM:-0600
TZOFFSETTO:-0500
TZNAME:CDT
DTSTART:20210314T080000
END:DAYLIGHT
BEGIN:STANDARD
TZOFFSETFROM:-0500
TZOFFSETTO:-0600
TZNAME:CST
DTSTART:20211107T070000
END:STANDARD
BEGIN:DAYLIGHT
TZOFFSETFROM:-0600
TZOFFSETTO:-0500
TZNAME:CDT
DTSTART:20220313T080000
END:DAYLIGHT
BEGIN:STANDARD
TZOFFSETFROM:-0500
TZOFFSETTO:-0600
TZNAME:CST
DTSTART:20221106T070000
END:STANDARD
BEGIN:DAYLIGHT
TZOFFSETFROM:-0600
TZOFFSETTO:-0500
TZNAME:CDT
DTSTART:20230312T080000
END:DAYLIGHT
BEGIN:STANDARD
TZOFFSETFROM:-0500
TZOFFSETTO:-0600
TZNAME:CST
DTSTART:20231105T070000
END:STANDARD
BEGIN:DAYLIGHT
TZOFFSETFROM:-0600
TZOFFSETTO:-0500
TZNAME:CDT
DTSTART:20240310T080000
END:DAYLIGHT
BEGIN:STANDARD
TZOFFSETFROM:-0500
TZOFFSETTO:-0600
TZNAME:CST
DTSTART:20241103T070000
END:STANDARD
BEGIN:DAYLIGHT
TZOFFSETFROM:-0600
TZOFFSETTO:-0500
TZNAME:CDT
DTSTART:20250309T080000
END:DAYLIGHT
BEGIN:STANDARD
TZOFFSETFROM:-0500
TZOFFSETTO:-0600
TZNAME:CST
DTSTART:20251102T070000
END:STANDARD
END:VTIMEZONE
BEGIN:VEVENT
DTSTART;TZID=America/Chicago:20240510T170000
DTEND;TZID=America/Chicago:20240510T190000
DTSTAMP:20260420T053028
CREATED:20240502T224947Z
LAST-MODIFIED:20240502T224947Z
UID:10000092-1715360400-1715367600@equalpartsbrewing.com
SUMMARY:Shared Strength Release Party - in support of mental health awareness
DESCRIPTION:This upcoming iteration of Shared Strength is a charitable lager brewed in support of mental health awareness and benefits I’ll Have What She’s Having\, with culinary guidance from Chef Dawn Burrell. Read the story here. \nJoin us for the release of Shared Strength on Friday May 10th! We are donating 100% of our taproom proceeds to IHWSH\, who provides free mental health services for those in the service industry. \nIf you are struggling with your mental health\, IHWSH has resources and you are not alone. Please visit www.illhavewhatsheshaving.org
URL:https://equalpartsbrewing.com/event/shared-strength-release-party-mental-health-awareness/
LOCATION:Equal Parts Brewing\, 3118 Harrisburg Blvd\, Houston\, TX\, 77003
CATEGORIES:benefit,mental health support group
ATTACH;FMTTYPE=image/jpeg:https://equalpartsbrewing.com/wp-content/uploads/2024/05/IMG_5880-scaled.jpeg
END:VEVENT
BEGIN:VEVENT
DTSTART;TZID=America/Chicago:20240505T120000
DTEND;TZID=America/Chicago:20240505T190000
DTSTAMP:20260420T053028
CREATED:20240327T192927Z
LAST-MODIFIED:20240429T211842Z
UID:10000087-1714910400-1714935600@equalpartsbrewing.com
SUMMARY:Maíz Mania! Elote Contest + Lucha Libre
DESCRIPTION:We’re celebrating Cinco de Mayo this year with an Elote Contest and Lucha Libre in the parking lot!\nOn 5/5\, we gather the city’s best elote recipes for a showdown of delicious proportions and the return of Dadpils\, our rad corn lager.  It’s wrestle mania for your taste buds and lucha libre for the eyes.   Whether you like your corn in a cup or on the cob\, traditional street style or your own experiment- we’re calling all teams to come out and compete. \nThink your recipe has what it takes to take all?  Email: spacecitysnax@gmail.com to get more info or sign up HERE.  Elote contest winners will receive a cash prize & more. \nDon’t want to compete and just want to get that corn into your face?  The day will be filled with music\, beer\, all the corn you can eat (and judge)\, and a finale of live lucha libre. \nEarly Bird tickets are $50 and will get you:  all-you-can-eat elote + judging token\, T-shirt\, drink ticket\, VIP guaranteed seating for live lucha libre\, and access to all the vendors. (link coming soon) \nRegular entry is $30 and gets you access to the elote contest & vendors\, judging token\, and lucha libre standing area. \nThis event is brought to you by Space City Snax and Dadpils\, our Rad Corn Lager. \n 
URL:https://equalpartsbrewing.com/event/maiz-mania-elote-contest-lucha-libre/
LOCATION:Equal Parts Brewing\, 3118 Harrisburg Blvd\, Houston\, TX\, 77003
ATTACH;FMTTYPE=image/png:https://equalpartsbrewing.com/wp-content/uploads/2024/03/Maiz-Mania.06.png
END:VEVENT
BEGIN:VEVENT
DTSTART;TZID=America/Chicago:20240422T113000
DTEND;TZID=America/Chicago:20240422T130000
DTSTAMP:20260420T053028
CREATED:20240327T224218Z
LAST-MODIFIED:20240327T224218Z
UID:10000088-1713785400-1713790800@equalpartsbrewing.com
SUMMARY:April Mental Health Support Group (FREE)
DESCRIPTION:Stress is no joke.\nWe know you feel it because we feel it too\, and you don’t have to go at it alone.  Whether you’re grappling with anxiety\, depression\, grief\, or burnout- this support group is made for you. This group is FREE and open to all in Houston\, thanks to our friends at I’ll Have What She’s Having and Yvonne Champion (LCSW) of Champion Counseling. \nCoffee and brunch provided courtesy of our darling Star Sailor HTX ✨ \n11:30: Brunch + coffee\n11:45: Start group session\n1 pm: Finish group session \nPS: if you’re thinking this group isn’t for you or won’t help – come!\nYou will be surprised at what you walk away with. Invite a friend or share with someone you care about.
URL:https://equalpartsbrewing.com/event/april-mental-health-support-group-free/
LOCATION:Equal Parts Brewing\, 3118 Harrisburg Blvd\, Houston\, TX\, 77003
CATEGORIES:mental health support group
ATTACH;FMTTYPE=image/png:https://equalpartsbrewing.com/wp-content/uploads/2024/03/april-2024-mental-health-support-group.png
END:VEVENT
BEGIN:VEVENT
DTSTART;TZID=America/Chicago:20240413T120000
DTEND;TZID=America/Chicago:20240413T220000
DTSTAMP:20260420T053028
CREATED:20240326T190303Z
LAST-MODIFIED:20240327T224528Z
UID:10000085-1713009600-1713045600@equalpartsbrewing.com
SUMMARY:Second Saturday Block Party Fundraiser - F*** Cancer
DESCRIPTION:On April 13\, Banding Together and Houston Punkfest are taking over our parking lot to raise funds for little Olivia Herrin’s ongoing battle with cancer. Olivia’s fight include weekly rounds of chemo and the Herrins are less than halfway to their goal. Let’s help get them closer to it. \n🎸 10 badass bands will take the stage in support of this cause from 2-9pm. If you love what you hear or if this cause moves you to do so\, please donate. Every little bit counts. \n🎨 While the bands play\, we’ll be creating a community work of chalk art. We’ll provide the sidewalk chalk\, you bring the heart and childlike whimsy. Let’s cover our lot with drawings and messages of love. This is all-ages and FREE to participate. \n🍻 Want to drink your support? We got you. A portion of your Kaizen purchase that day will go directly toward the fund. Every sip of Kaizen is a step toward better. \n🌷 Tulip’s Market will also be happening in our event space 5-10pm (food\, music\, artisan crafts\, performances) – there will be something for everyone. \nIf you can’t make it or if you are able to donate\, please do so here: https://gofund.me/6e72999b \nBands: \n2-2:30 Gherkin Dolls\n2:45-3:15 Riptide Phantom\n3:30-4 Bar Rats\n4:15-4:45 Alien Shore\n5-5:30 Municipal Bats\n5:45-6:15 Quinn the Brain\n6:30-7 As We Shiver\n7:15-7:45 Nothing\, Who Cares?\n8-8:45 Rooftop Boxer
URL:https://equalpartsbrewing.com/event/second-saturday-block-party-fundraiser-cancer/
LOCATION:Equal Parts Brewing\, 3118 Harrisburg Blvd\, Houston\, TX\, 77003
CATEGORIES:artisan market,benefit,live music
ATTACH;FMTTYPE=image/png:https://equalpartsbrewing.com/wp-content/uploads/2024/03/Insta-Post-4x5-FINAL.png
END:VEVENT
BEGIN:VEVENT
DTSTART;TZID=America/Chicago:20240325T113000
DTEND;TZID=America/Chicago:20240325T130000
DTSTAMP:20260420T053028
CREATED:20240313T164653Z
LAST-MODIFIED:20240322T200451Z
UID:10000082-1711366200-1711371600@equalpartsbrewing.com
SUMMARY:March Mental Health Support Group (FREE)
DESCRIPTION:Stress is no joke.\nWe know you feel it because we feel it too\, and you don’t have to go at it alone.  Whether you’re grappling with anxiety\, depression\, grief\, or burnout- this support group is made for you. This group is FREE and open to all in Houston\, thanks to our friends at I’ll Have What She’s Having and Yvonne Champion (LCSW) of Champion Counseling. \nCoffee and brunch provided courtesy of our darling Star Sailor HTX ✨ \n11:30: Brunch + coffee\n11:45: Start group session\n1 pm: Finish group session \nPS: if you’re thinking this group isn’t for you or won’t help – come!\nYou will be surprised at what you walk away with. Invite a friend or share with someone you care about.
URL:https://equalpartsbrewing.com/event/march-2024-mental-health-support-group-free/
LOCATION:Equal Parts Brewing\, 3118 Harrisburg Blvd\, Houston\, TX\, 77003
CATEGORIES:mental health support group
ATTACH;FMTTYPE=image/png:https://equalpartsbrewing.com/wp-content/uploads/2023/12/March-Flyer_20240307_101607_0000-1.png
END:VEVENT
BEGIN:VEVENT
DTSTART;TZID=America/Chicago:20240322T190000
DTEND;TZID=America/Chicago:20240322T220000
DTSTAMP:20260420T053028
CREATED:20240316T223908Z
LAST-MODIFIED:20240321T212738Z
UID:10000083-1711134000-1711144800@equalpartsbrewing.com
SUMMARY:Corpse Pile - LIVE
DESCRIPTION:  \nMarch 22nd\, 2024 ⚔️ \nYou don’t want to miss this one. \nCorpse Pile \nTribal Gaze. \nFlesh Rot. \nSanity Slip. \nRealms of Death. \nTower Lord. \nStay True Productions
URL:https://equalpartsbrewing.com/event/corpse-pile-live/
LOCATION:Equal Parts Brewing\, 3118 Harrisburg Blvd\, Houston\, TX\, 77003
ATTACH;FMTTYPE=image/jpeg:https://equalpartsbrewing.com/wp-content/uploads/2024/03/corpse-pile.jpg
END:VEVENT
BEGIN:VEVENT
DTSTART;TZID=America/Chicago:20240211T120000
DTEND;TZID=America/Chicago:20240211T180000
DTSTAMP:20260420T053028
CREATED:20240207T213845Z
LAST-MODIFIED:20240209T224035Z
UID:10000075-1707652800-1707674400@equalpartsbrewing.com
SUMMARY:La Feria de Tulipán
DESCRIPTION:Every Second Saturday\, we welcome La Feria de Tulipán to Equal Parts… \nLa Feria de Tulipán (or Tulips Market) is a day party and market centering the sounds\, sights\, and flavors of the Latin and Indigenous diasporas. Our events are carefully curated to gather local vendors\, artists\, and community members in a space that fosters joy\, activism\, and collective healing. Our goal is to transform the space through music and carefully detailed decor in a way that reflects the “ferias” (markets) that most of the Hispanic members in the local and Greater Houston area will recognize and connect with. \nTulip is a brave little beagle-boston terrier mix who’s never met a stranger\, she brings people together. And for that reason\, our market is named after her. Tulips Market was created because we love sharing music\, vibes\, yoga and creating a safe space to share our art and offerings in community. Handmade\, full of love and full of heart from our hands to your home.  Catch us every Second Saturday!
URL:https://equalpartsbrewing.com/event/la-feria-de-tulipan/
LOCATION:Equal Parts Brewing\, 3118 Harrisburg Blvd\, Houston\, TX\, 77003
ATTACH;FMTTYPE=image/jpeg:https://equalpartsbrewing.com/wp-content/uploads/2024/02/la-feria-de-tulipan.jpg
END:VEVENT
BEGIN:VEVENT
DTSTART;TZID=America/Chicago:20240122T113000
DTEND;TZID=America/Chicago:20240122T130000
DTSTAMP:20260420T053028
CREATED:20231213T173944Z
LAST-MODIFIED:20231213T175142Z
UID:10000073-1705923000-1705928400@equalpartsbrewing.com
SUMMARY:January Mental Health Support Group (FREE)
DESCRIPTION:Stress is no joke.\nWe know you feel it because we feel it too\, and you don’t have to go at it alone.\nWhether you’re grappling with anxiety\, depression\, grief\, or burnout- this support group is made for you. This group is FREE and open to all in Houston\, thanks to I’ll Have What She’s Having and Yvonne Champion (LCSW) of Champion Counseling. \nCoffee and brunch provided courtesy of our darling Star Sailor HTX ✨ \n11:30: Brunch + coffee\n11:45: Start group session\n1 pm: Finish group session \nPS: if you’re thinking this group isn’t for you or won’t help – come!\nYou will be surprised at what you walk away with. Invite a friend or share with someone you care about.
URL:https://equalpartsbrewing.com/event/january-2024-mental-health-support-group-free/
LOCATION:Equal Parts Brewing\, 3118 Harrisburg Blvd\, Houston\, TX\, 77003
ATTACH;FMTTYPE=image/png:https://equalpartsbrewing.com/wp-content/uploads/2023/12/january-2024-monthly-mental-health-support-group.png
END:VEVENT
BEGIN:VEVENT
DTSTART;TZID=America/Chicago:20231218T113000
DTEND;TZID=America/Chicago:20231218T130000
DTSTAMP:20260420T053028
CREATED:20231213T170320Z
LAST-MODIFIED:20231213T170321Z
UID:10000072-1702899000-1702904400@equalpartsbrewing.com
SUMMARY:December Mental Health Support Group (FREE)
DESCRIPTION:Stress is no joke.\nWe know you feel it because we feel it too\, and you don’t have to go at it alone.\nWhether you’re grappling with anxiety\, depression\, grief\, or burnout- this support group is made for you. This group is FREE and open to all in Houston\, thanks to I’ll Have What She’s Having and Yvonne Champion (LCSW) of Champion Counseling. \nCoffee and brunch provided courtesy of our darling Star Sailor HTX ✨ \n11:30: Brunch + coffee\n11:45: Start group session\n1 pm: Finish group session \nPS: if you’re thinking this group isn’t for you or won’t help – come!\nYou will be surprised at what you walk away with. Invite a friend or share with someone you care about.
URL:https://equalpartsbrewing.com/event/december-mental-health-support-group-free/
LOCATION:Equal Parts Brewing\, 3118 Harrisburg Blvd\, Houston\, TX\, 77003
ATTACH;FMTTYPE=image/png:https://equalpartsbrewing.com/wp-content/uploads/2023/12/december-monthly-mental-health-support-group.png
END:VEVENT
BEGIN:VEVENT
DTSTART;TZID=America/Chicago:20231023T103000
DTEND;TZID=America/Chicago:20231023T130000
DTSTAMP:20260420T053028
CREATED:20230928T183129Z
LAST-MODIFIED:20240329T152422Z
UID:10000070-1698057000-1698066000@equalpartsbrewing.com
SUMMARY:October Mental Health Support Group (FREE)
DESCRIPTION:Stress is no joke.\nWe know you feel it because we feel it too\, and you don’t have to go at it alone.\nWhether you’re grappling with anxiety\, depression\, grief\, or burnout- this support group is made for you. This group is FREE and open to all in Houston\, thanks to I’ll Have What She’s Having and Yvonne Champion (LCSW) of Champion Counseling. \nCoffee and brunch provided courtesy of our darling Star Sailor HTX ✨ \n11:30: Brunch + coffee\n11:45: Start group session\n1 pm: Finish group session \nPS: if you’re thinking this group isn’t for you or won’t help – come!\nYou will be surprised at what you walk away with. Invite a friend or share with someone you care about.
URL:https://equalpartsbrewing.com/event/october-mental-health-support-group-free/
LOCATION:Equal Parts Brewing\, 3118 Harrisburg Blvd\, Houston\, TX\, 77003
ATTACH;FMTTYPE=image/png:https://equalpartsbrewing.com/wp-content/uploads/2023/09/OCTOBER-mental-health-support.png
END:VEVENT
BEGIN:VEVENT
DTSTART;TZID=America/Chicago:20231021T110000
DTEND;TZID=America/Chicago:20231021T233000
DTSTAMP:20260420T053028
CREATED:20231018T141246Z
LAST-MODIFIED:20240329T152333Z
UID:10000071-1697886000-1697931000@equalpartsbrewing.com
SUMMARY:Burial in Space 2023
DESCRIPTION:Embark upon a cosmic flavor journey with Equal Parts as we celebrate our 7th anniversary on Burial in Space Day.\nVIP event: 11am – 2pm \nWith your VIP ticket\, you’ll go on a 3hr tasting adventure with the crew of Equal Parts and a fleet of VIP beers that won’t be available to the public. \n      \n🚀 Float through each tasting with your very own platinum printed Burial in Space glass. \n🚀 As a parting gift\, you’ll go home with 3 bottles of barrel-aged goodness (Burial in Space\, Gamma Glow\, Dark Void) and 2 rad ass limited edition pins. \n🚀 Oh\, and did we mention the OPEN BAR? Try anything on our taps. \nAll of this is wrapped in a private interstellar taproom experience\, but only a limited number of tickets are left. To purchase\, click the link in our bio or grab some in our taproom. \n🚙 A LIMITED NUMBER OF FREE DD TICKETS ARE NOW AVAILABLE IN OUR TAPROOM\, FIRST COME FIRST SERVED (These tickets are so your beloved designated driver can hang out with you while not drinking) \nTo purchase a ticket online\, visit our SHOP\, or purchase at the counter in our taproom. \nOpen to the public: 2pm \nAfter the VIP party has come to a close and the the VIP beers have disappeared into the ether\, our taproom will be open to the public for continued celebrations. \n🦇 Macabre Market will start at 5pm. @macabremarkethtx \nFOOD will be available starting at 11am with our friends:\n🌮 @elpobretexmexbbq\n🍔 @star_sailor_htx \nCOFFEE to keep you going will be provided via a special menu from:\n☕️ @dreameaters.coffee \nDeep space is calling\, are you coming with us?
URL:https://equalpartsbrewing.com/event/burial-in-space-2023/
LOCATION:Equal Parts Brewing\, 3118 Harrisburg Blvd\, Houston\, TX\, 77003
ATTACH;FMTTYPE=image/png:https://equalpartsbrewing.com/wp-content/uploads/2023/10/Alpha.png
END:VEVENT
BEGIN:VEVENT
DTSTART;TZID=America/Chicago:20230930T120000
DTEND;TZID=America/Chicago:20230930T233000
DTSTAMP:20260420T053028
CREATED:20230910T171919Z
LAST-MODIFIED:20230928T185954Z
UID:10000068-1696075200-1696116600@equalpartsbrewing.com
SUMMARY:Camp Loggerbier: A parade of lagers and camp-themed fun
DESCRIPTION:For the love of lager\, mark your calendars for the destination of your crispiest dreams: Camp Loggerbier at Equal Parts Brewing on September 30th!\nCamp Loggerbier is a celebration of all things lager in the form of an adult-themed camp featuring a parade of our tasty craft lagers\, draft-only variants of our beloved Loggerbier\, and the release of a canned collab beer with our friends at Truth BBQ called Lil’ Smoky\, which features malts they smoked specifically for us. \nCAMP LOGGERBIER  9/30  \nCome for the lagers\, stay for the: \n🍻 Campy craft table with @craftclubhtx\, 12-4 \n🍻 Campy costume contest- to enter\, post a selfie in our taproom 9/30 and tag us \n🍻 Free “for the love of lager” glass + pour with filled punchcard \n🍻 @rowdys_barbeque happy camper menu including s’mores & more\, noon-sold out \n🍻 @elpobretexmexbbq fatty tamales & more until 10pm \n🍻 @houstonplantmarket is hosting scavenger hunts with winners every 30min\, wildflower potting\, and plant crafts 5-10pm \n🍻 @battleroyaletattoohtx will have campy flash options all day too! \nCampy costume winners will be decided by popular vote in a story poll. 1st place gets our ultimate camp set worth over $100!! 2 runners up will win choice of a free lager love glass + pour or a 6pack of our new Lil’ Smoky\, a collab with @truth_bbq. \nAre you coming? Let’s get campy. \nStay updated via the Facebook event page or follow us on Instagram.\n\n  \n\n  \n\n 
URL:https://equalpartsbrewing.com/event/camp-loggerbier-a-parade-of-lagers-and-camp-themed-fun/
LOCATION:Equal Parts Brewing\, 3118 Harrisburg Blvd\, Houston\, TX\, 77003
ATTACH;FMTTYPE=image/jpeg:https://equalpartsbrewing.com/wp-content/uploads/2023/09/Loggerbier-Insta-Post-2023-e1694369213338.jpg
END:VEVENT
BEGIN:VEVENT
DTSTART;TZID=America/Chicago:20230925T113000
DTEND;TZID=America/Chicago:20230925T130000
DTSTAMP:20260420T053028
CREATED:20230910T182150Z
LAST-MODIFIED:20230928T182315Z
UID:10000069-1695641400-1695646800@equalpartsbrewing.com
SUMMARY:September Mental Health Support Group (FREE)
DESCRIPTION:Stress is no joke.\nWe know you feel it because we feel it too\, and you don’t have to go at it alone.\nWhether you’re grappling with anxiety\, depression\, grief\, or burnout- this support group is made for you. This group is FREE and open to all\, thanks to I’ll Have What She’s Having and Yvonne Champion (LCSW) of Champion Counseling. \nCoffee and brunch provided courtesy of our darling Star Sailor HTX ✨ \n11:30: Brunch + coffee\n11:45: Start group session\n1 pm: Finish group session \nPS: if you’re thinking this group isn’t for you or won’t help- come!\nYou will be surprised at what you walk away with. Invite a friend or share with someone you care about.
URL:https://equalpartsbrewing.com/event/september-mental-health-support-group-free/
LOCATION:Equal Parts Brewing\, 3118 Harrisburg Blvd\, Houston\, TX\, 77003
ATTACH;FMTTYPE=image/png:https://equalpartsbrewing.com/wp-content/uploads/2023/09/IHWSHseptember-e1694370567197.png
END:VEVENT
BEGIN:VEVENT
DTSTART;TZID=America/Chicago:20230729T190000
DTEND;TZID=America/Chicago:20230729T230000
DTSTAMP:20260420T053028
CREATED:20230725T190132Z
LAST-MODIFIED:20240305T011757Z
UID:10000067-1690657200-1690671600@equalpartsbrewing.com
SUMMARY:Entropic Music Festival
DESCRIPTION:  \n  \n 
URL:https://equalpartsbrewing.com/event/entropic-music-festival/
LOCATION:Equal Parts Brewing\, 3118 Harrisburg Blvd\, Houston\, TX\, 77003
ATTACH;FMTTYPE=image/png:https://equalpartsbrewing.com/wp-content/uploads/2023/07/ENTROPIC-music-festival-e1694543497826.png
END:VEVENT
BEGIN:VEVENT
DTSTART;TZID=America/Chicago:20230726T190000
DTEND;TZID=America/Chicago:20230726T220000
DTSTAMP:20260420T053028
CREATED:20230725T151251Z
LAST-MODIFIED:20230725T151840Z
UID:10000066-1690398000-1690408800@equalpartsbrewing.com
SUMMARY:High Desert Queen: Brewery & Dive Tour
DESCRIPTION:  \nHigh Desert Queen starts their “Brewery and Dive Tour” with a BANG! They will be joined by fellow Ripple Music powerhouses Thunder Horse and Fostermother. This will be an early Wednesday night show so you can get to work on time the next day! Plus HDQ will be filming a documentary of their tour so come be a part of history!\n  \nDetails:\n\n7pm- Fostermother https://fostermother.bandcamp.com/\n8pm- Thunder Horse https://thunderhorse.bandcamp.com/album/thunder-horse\n9pm- High Desert Queen www.highdesertqueen.com
URL:https://equalpartsbrewing.com/event/1654/
LOCATION:Equal Parts Brewing\, 3118 Harrisburg Blvd\, Houston\, TX\, 77003
END:VEVENT
BEGIN:VEVENT
DTSTART;TZID=America/Chicago:20230624T120000
DTEND;TZID=America/Chicago:20230625T000000
DTSTAMP:20260420T053028
CREATED:20230614T172116Z
LAST-MODIFIED:20240401T184238Z
UID:10000065-1687608000-1687651200@equalpartsbrewing.com
SUMMARY:Pleasure Cruise: A Cheeky Tiki Adventure
DESCRIPTION:  \n🌞 Saturday\, June 24th   \nTake your tongue on a tropical tour through 6 new flavors of Exotica\, our tiki-inspired beer series. \n🍹The Exotica series allows us to step outside of the brewhouse box and flex our culinary muscles by creating a beer that harnesses the complexity of a tiki cocktail\, but with the character and drinkability of a beer. Each release is unique and well-balanced\, like a cocktail. \n🌴We are transforming our taproom into a tiki bar\, hosting a pig roast + tropical market\, projecting movies for an indoor picnic\, and preparing prizes… \n🌺There will be costume contests! Come dressed in your over-the-top tropical nautical best. \nDetails will be posted to IG stories and the Facebook event page. \nPig roast: 12-6pm \nTropical indoor market: 1-6pm \nBeer can succulents: 2-5pm \nCostume contests + prizes: all day \nIndoor picnic + movie: starts at 7pm \nBring your thirst for adventure and hunger for fun- it’s tiki time!
URL:https://equalpartsbrewing.com/event/pleasure-cruise-a-cheeky-tiki-adventure/
LOCATION:Equal Parts Brewing\, 3118 Harrisburg Blvd\, Houston\, TX\, 77003
ATTACH;FMTTYPE=image/png:https://equalpartsbrewing.com/wp-content/uploads/2023/06/Pleasure-Cruise.07.png
END:VEVENT
BEGIN:VEVENT
DTSTART;TZID=America/Chicago:20220910T120000
DTEND;TZID=America/Chicago:20220910T235900
DTSTAMP:20260420T053028
CREATED:20220819T210531Z
LAST-MODIFIED:20220819T213524Z
UID:10000064-1662811200-1662854340@equalpartsbrewing.com
SUMMARY:Camp Loggerbier
DESCRIPTION:Camp Loggerbier is a celebration of all things lager. Featuring a whole bunch of tasty lagers\, draft only variants of our beloved Loggerbier\, and the release of a canned collab beer with our friends at Pinkerton’s BBQ called Lil’ Smokey\, which features malts they smoked specifically for us. \nChef Brad will be on hand with a few upscale takes on nostalgic bites\, which you can enjoy in front of a giant outdoor movie screen\, playing classic campfire movies all night. Please bring your own chair.
URL:https://equalpartsbrewing.com/event/camp-loggerbier/
LOCATION:Equal Parts Brewing\, 3118 Harrisburg Blvd\, Houston\, TX\, 77003
ATTACH;FMTTYPE=image/jpeg:https://equalpartsbrewing.com/wp-content/uploads/2022/08/Equal-Parts_Promo_Camp-Loggerbier-scaled.jpg
END:VEVENT
END:VCALENDAR