BEGIN:VCALENDAR
VERSION:2.0
PRODID:-//Equal Parts Brewing - ECPv6.15.17.1//NONSGML v1.0//EN
CALSCALE:GREGORIAN
METHOD:PUBLISH
X-ORIGINAL-URL:https://equalpartsbrewing.com
X-WR-CALDESC:Events for Equal Parts Brewing
REFRESH-INTERVAL;VALUE=DURATION:PT1H
X-Robots-Tag:noindex
X-PUBLISHED-TTL:PT1H
BEGIN:VTIMEZONE
TZID:America/Chicago
BEGIN:DAYLIGHT
TZOFFSETFROM:-0600
TZOFFSETTO:-0500
TZNAME:CDT
DTSTART:20250309T080000
END:DAYLIGHT
BEGIN:STANDARD
TZOFFSETFROM:-0500
TZOFFSETTO:-0600
TZNAME:CST
DTSTART:20251102T070000
END:STANDARD
BEGIN:DAYLIGHT
TZOFFSETFROM:-0600
TZOFFSETTO:-0500
TZNAME:CDT
DTSTART:20260308T080000
END:DAYLIGHT
BEGIN:STANDARD
TZOFFSETFROM:-0500
TZOFFSETTO:-0600
TZNAME:CST
DTSTART:20261101T070000
END:STANDARD
BEGIN:DAYLIGHT
TZOFFSETFROM:-0600
TZOFFSETTO:-0500
TZNAME:CDT
DTSTART:20270314T080000
END:DAYLIGHT
BEGIN:STANDARD
TZOFFSETFROM:-0500
TZOFFSETTO:-0600
TZNAME:CST
DTSTART:20271107T070000
END:STANDARD
END:VTIMEZONE
BEGIN:VEVENT
DTSTART;TZID=America/Chicago:20260423T190000
DTEND;TZID=America/Chicago:20260423T210000
DTSTAMP:20260419T203158
CREATED:20241024T193455Z
LAST-MODIFIED:20241024T193924Z
UID:10000271-1776970800-1776978000@equalpartsbrewing.com
SUMMARY:Run Club
DESCRIPTION:Meeting every Thursday at 7:00 PM\, taking off from Equal Parts Brewery. Join us for a 3ish mile run and stay for refreshments🍻
URL:https://equalpartsbrewing.com/event/run-club/2026-04-23/
LOCATION:TX
CATEGORIES:run club
ATTACH;FMTTYPE=image/png:https://equalpartsbrewing.com/wp-content/uploads/2024/10/Run-Club.png
END:VEVENT
BEGIN:VEVENT
DTSTART;TZID=America/Chicago:20260424T160000
DTEND;TZID=America/Chicago:20260424T180000
DTSTAMP:20260419T203159
CREATED:20241024T200512Z
LAST-MODIFIED:20241024T200512Z
UID:10000536-1777046400-1777053600@equalpartsbrewing.com
SUMMARY:No Jacket Required
DESCRIPTION:No Jacket Required is our Phil Collins Friday happy hour! Enjoy $2 off all drafts from 4pm-6pm and $1 off slow pours!
URL:https://equalpartsbrewing.com/event/no-jacket-required/2026-04-24/
LOCATION:TX
ATTACH;FMTTYPE=image/png:https://equalpartsbrewing.com/wp-content/uploads/2024/10/NJR.png
END:VEVENT
BEGIN:VEVENT
DTSTART;TZID=America/Chicago:20260430T190000
DTEND;TZID=America/Chicago:20260430T210000
DTSTAMP:20260419T203159
CREATED:20241024T193455Z
LAST-MODIFIED:20241024T193924Z
UID:10000272-1777575600-1777582800@equalpartsbrewing.com
SUMMARY:Run Club
DESCRIPTION:Meeting every Thursday at 7:00 PM\, taking off from Equal Parts Brewery. Join us for a 3ish mile run and stay for refreshments🍻
URL:https://equalpartsbrewing.com/event/run-club/2026-04-30/
LOCATION:TX
CATEGORIES:run club
ATTACH;FMTTYPE=image/png:https://equalpartsbrewing.com/wp-content/uploads/2024/10/Run-Club.png
END:VEVENT
BEGIN:VEVENT
DTSTART;TZID=America/Chicago:20260501T160000
DTEND;TZID=America/Chicago:20260501T180000
DTSTAMP:20260419T203159
CREATED:20241024T200512Z
LAST-MODIFIED:20241024T200512Z
UID:10000537-1777651200-1777658400@equalpartsbrewing.com
SUMMARY:No Jacket Required
DESCRIPTION:No Jacket Required is our Phil Collins Friday happy hour! Enjoy $2 off all drafts from 4pm-6pm and $1 off slow pours!
URL:https://equalpartsbrewing.com/event/no-jacket-required/2026-05-01/
LOCATION:TX
ATTACH;FMTTYPE=image/png:https://equalpartsbrewing.com/wp-content/uploads/2024/10/NJR.png
END:VEVENT
BEGIN:VEVENT
DTSTART;TZID=America/Chicago:20260507T190000
DTEND;TZID=America/Chicago:20260507T210000
DTSTAMP:20260419T203159
CREATED:20241024T193455Z
LAST-MODIFIED:20241024T193924Z
UID:10000273-1778180400-1778187600@equalpartsbrewing.com
SUMMARY:Run Club
DESCRIPTION:Meeting every Thursday at 7:00 PM\, taking off from Equal Parts Brewery. Join us for a 3ish mile run and stay for refreshments🍻
URL:https://equalpartsbrewing.com/event/run-club/2026-05-07/
LOCATION:TX
CATEGORIES:run club
ATTACH;FMTTYPE=image/png:https://equalpartsbrewing.com/wp-content/uploads/2024/10/Run-Club.png
END:VEVENT
BEGIN:VEVENT
DTSTART;TZID=America/Chicago:20260508T160000
DTEND;TZID=America/Chicago:20260508T180000
DTSTAMP:20260419T203159
CREATED:20241024T200512Z
LAST-MODIFIED:20241024T200512Z
UID:10000538-1778256000-1778263200@equalpartsbrewing.com
SUMMARY:No Jacket Required
DESCRIPTION:No Jacket Required is our Phil Collins Friday happy hour! Enjoy $2 off all drafts from 4pm-6pm and $1 off slow pours!
URL:https://equalpartsbrewing.com/event/no-jacket-required/2026-05-08/
LOCATION:TX
ATTACH;FMTTYPE=image/png:https://equalpartsbrewing.com/wp-content/uploads/2024/10/NJR.png
END:VEVENT
BEGIN:VEVENT
DTSTART;TZID=America/Chicago:20260514T190000
DTEND;TZID=America/Chicago:20260514T210000
DTSTAMP:20260419T203159
CREATED:20241024T193455Z
LAST-MODIFIED:20241024T193924Z
UID:10000274-1778785200-1778792400@equalpartsbrewing.com
SUMMARY:Run Club
DESCRIPTION:Meeting every Thursday at 7:00 PM\, taking off from Equal Parts Brewery. Join us for a 3ish mile run and stay for refreshments🍻
URL:https://equalpartsbrewing.com/event/run-club/2026-05-14/
LOCATION:TX
CATEGORIES:run club
ATTACH;FMTTYPE=image/png:https://equalpartsbrewing.com/wp-content/uploads/2024/10/Run-Club.png
END:VEVENT
BEGIN:VEVENT
DTSTART;TZID=America/Chicago:20260515T160000
DTEND;TZID=America/Chicago:20260515T180000
DTSTAMP:20260419T203159
CREATED:20241024T200512Z
LAST-MODIFIED:20241024T200512Z
UID:10000539-1778860800-1778868000@equalpartsbrewing.com
SUMMARY:No Jacket Required
DESCRIPTION:No Jacket Required is our Phil Collins Friday happy hour! Enjoy $2 off all drafts from 4pm-6pm and $1 off slow pours!
URL:https://equalpartsbrewing.com/event/no-jacket-required/2026-05-15/
LOCATION:TX
ATTACH;FMTTYPE=image/png:https://equalpartsbrewing.com/wp-content/uploads/2024/10/NJR.png
END:VEVENT
BEGIN:VEVENT
DTSTART;TZID=America/Chicago:20260517T120000
DTEND;TZID=America/Chicago:20260517T140000
DTSTAMP:20260419T203159
CREATED:20241024T192830Z
LAST-MODIFIED:20241024T192830Z
UID:10000151-1779019200-1779026400@equalpartsbrewing.com
SUMMARY:Silent Book Club
DESCRIPTION:Bring what you are currently reading\, meet other book obsessed people and enjoy some tasty drinks! \n12-2pm
URL:https://equalpartsbrewing.com/event/silent-book-club/2026-05-17/
LOCATION:TX
CATEGORIES:art & culture
ATTACH;FMTTYPE=image/png:https://equalpartsbrewing.com/wp-content/uploads/2024/10/SBC.png
END:VEVENT
BEGIN:VEVENT
DTSTART;TZID=America/Chicago:20260521T190000
DTEND;TZID=America/Chicago:20260521T210000
DTSTAMP:20260419T203159
CREATED:20241024T193455Z
LAST-MODIFIED:20241024T193924Z
UID:10000275-1779390000-1779397200@equalpartsbrewing.com
SUMMARY:Run Club
DESCRIPTION:Meeting every Thursday at 7:00 PM\, taking off from Equal Parts Brewery. Join us for a 3ish mile run and stay for refreshments🍻
URL:https://equalpartsbrewing.com/event/run-club/2026-05-21/
LOCATION:TX
CATEGORIES:run club
ATTACH;FMTTYPE=image/png:https://equalpartsbrewing.com/wp-content/uploads/2024/10/Run-Club.png
END:VEVENT
BEGIN:VEVENT
DTSTART;TZID=America/Chicago:20260522T160000
DTEND;TZID=America/Chicago:20260522T180000
DTSTAMP:20260419T203159
CREATED:20241024T200512Z
LAST-MODIFIED:20241024T200512Z
UID:10000540-1779465600-1779472800@equalpartsbrewing.com
SUMMARY:No Jacket Required
DESCRIPTION:No Jacket Required is our Phil Collins Friday happy hour! Enjoy $2 off all drafts from 4pm-6pm and $1 off slow pours!
URL:https://equalpartsbrewing.com/event/no-jacket-required/2026-05-22/
LOCATION:TX
ATTACH;FMTTYPE=image/png:https://equalpartsbrewing.com/wp-content/uploads/2024/10/NJR.png
END:VEVENT
BEGIN:VEVENT
DTSTART;TZID=America/Chicago:20260528T190000
DTEND;TZID=America/Chicago:20260528T210000
DTSTAMP:20260419T203159
CREATED:20241024T193455Z
LAST-MODIFIED:20241024T193924Z
UID:10000276-1779994800-1780002000@equalpartsbrewing.com
SUMMARY:Run Club
DESCRIPTION:Meeting every Thursday at 7:00 PM\, taking off from Equal Parts Brewery. Join us for a 3ish mile run and stay for refreshments🍻
URL:https://equalpartsbrewing.com/event/run-club/2026-05-28/
LOCATION:TX
CATEGORIES:run club
ATTACH;FMTTYPE=image/png:https://equalpartsbrewing.com/wp-content/uploads/2024/10/Run-Club.png
END:VEVENT
BEGIN:VEVENT
DTSTART;TZID=America/Chicago:20260529T160000
DTEND;TZID=America/Chicago:20260529T180000
DTSTAMP:20260419T203159
CREATED:20241024T200512Z
LAST-MODIFIED:20241024T200512Z
UID:10000541-1780070400-1780077600@equalpartsbrewing.com
SUMMARY:No Jacket Required
DESCRIPTION:No Jacket Required is our Phil Collins Friday happy hour! Enjoy $2 off all drafts from 4pm-6pm and $1 off slow pours!
URL:https://equalpartsbrewing.com/event/no-jacket-required/2026-05-29/
LOCATION:TX
ATTACH;FMTTYPE=image/png:https://equalpartsbrewing.com/wp-content/uploads/2024/10/NJR.png
END:VEVENT
BEGIN:VEVENT
DTSTART;TZID=America/Chicago:20260604T190000
DTEND;TZID=America/Chicago:20260604T210000
DTSTAMP:20260419T203159
CREATED:20241024T193455Z
LAST-MODIFIED:20241024T193924Z
UID:10000277-1780599600-1780606800@equalpartsbrewing.com
SUMMARY:Run Club
DESCRIPTION:Meeting every Thursday at 7:00 PM\, taking off from Equal Parts Brewery. Join us for a 3ish mile run and stay for refreshments🍻
URL:https://equalpartsbrewing.com/event/run-club/2026-06-04/
LOCATION:TX
CATEGORIES:run club
ATTACH;FMTTYPE=image/png:https://equalpartsbrewing.com/wp-content/uploads/2024/10/Run-Club.png
END:VEVENT
BEGIN:VEVENT
DTSTART;TZID=America/Chicago:20260605T160000
DTEND;TZID=America/Chicago:20260605T180000
DTSTAMP:20260419T203159
CREATED:20241024T200512Z
LAST-MODIFIED:20241024T200512Z
UID:10000542-1780675200-1780682400@equalpartsbrewing.com
SUMMARY:No Jacket Required
DESCRIPTION:No Jacket Required is our Phil Collins Friday happy hour! Enjoy $2 off all drafts from 4pm-6pm and $1 off slow pours!
URL:https://equalpartsbrewing.com/event/no-jacket-required/2026-06-05/
LOCATION:TX
ATTACH;FMTTYPE=image/png:https://equalpartsbrewing.com/wp-content/uploads/2024/10/NJR.png
END:VEVENT
BEGIN:VEVENT
DTSTART;TZID=America/Chicago:20260611T190000
DTEND;TZID=America/Chicago:20260611T210000
DTSTAMP:20260419T203159
CREATED:20241024T193455Z
LAST-MODIFIED:20241024T193924Z
UID:10000278-1781204400-1781211600@equalpartsbrewing.com
SUMMARY:Run Club
DESCRIPTION:Meeting every Thursday at 7:00 PM\, taking off from Equal Parts Brewery. Join us for a 3ish mile run and stay for refreshments🍻
URL:https://equalpartsbrewing.com/event/run-club/2026-06-11/
LOCATION:TX
CATEGORIES:run club
ATTACH;FMTTYPE=image/png:https://equalpartsbrewing.com/wp-content/uploads/2024/10/Run-Club.png
END:VEVENT
BEGIN:VEVENT
DTSTART;TZID=America/Chicago:20260612T160000
DTEND;TZID=America/Chicago:20260612T180000
DTSTAMP:20260419T203159
CREATED:20241024T200512Z
LAST-MODIFIED:20241024T200512Z
UID:10000543-1781280000-1781287200@equalpartsbrewing.com
SUMMARY:No Jacket Required
DESCRIPTION:No Jacket Required is our Phil Collins Friday happy hour! Enjoy $2 off all drafts from 4pm-6pm and $1 off slow pours!
URL:https://equalpartsbrewing.com/event/no-jacket-required/2026-06-12/
LOCATION:TX
ATTACH;FMTTYPE=image/png:https://equalpartsbrewing.com/wp-content/uploads/2024/10/NJR.png
END:VEVENT
BEGIN:VEVENT
DTSTART;TZID=America/Chicago:20260618T190000
DTEND;TZID=America/Chicago:20260618T210000
DTSTAMP:20260419T203159
CREATED:20241024T193455Z
LAST-MODIFIED:20241024T193924Z
UID:10000279-1781809200-1781816400@equalpartsbrewing.com
SUMMARY:Run Club
DESCRIPTION:Meeting every Thursday at 7:00 PM\, taking off from Equal Parts Brewery. Join us for a 3ish mile run and stay for refreshments🍻
URL:https://equalpartsbrewing.com/event/run-club/2026-06-18/
LOCATION:TX
CATEGORIES:run club
ATTACH;FMTTYPE=image/png:https://equalpartsbrewing.com/wp-content/uploads/2024/10/Run-Club.png
END:VEVENT
BEGIN:VEVENT
DTSTART;TZID=America/Chicago:20260619T160000
DTEND;TZID=America/Chicago:20260619T180000
DTSTAMP:20260419T203159
CREATED:20241024T200512Z
LAST-MODIFIED:20241024T200512Z
UID:10000544-1781884800-1781892000@equalpartsbrewing.com
SUMMARY:No Jacket Required
DESCRIPTION:No Jacket Required is our Phil Collins Friday happy hour! Enjoy $2 off all drafts from 4pm-6pm and $1 off slow pours!
URL:https://equalpartsbrewing.com/event/no-jacket-required/2026-06-19/
LOCATION:TX
ATTACH;FMTTYPE=image/png:https://equalpartsbrewing.com/wp-content/uploads/2024/10/NJR.png
END:VEVENT
BEGIN:VEVENT
DTSTART;TZID=America/Chicago:20260621T120000
DTEND;TZID=America/Chicago:20260621T140000
DTSTAMP:20260419T203159
CREATED:20241024T192830Z
LAST-MODIFIED:20241024T192830Z
UID:10000152-1782043200-1782050400@equalpartsbrewing.com
SUMMARY:Silent Book Club
DESCRIPTION:Bring what you are currently reading\, meet other book obsessed people and enjoy some tasty drinks! \n12-2pm
URL:https://equalpartsbrewing.com/event/silent-book-club/2026-06-21/
LOCATION:TX
CATEGORIES:art & culture
ATTACH;FMTTYPE=image/png:https://equalpartsbrewing.com/wp-content/uploads/2024/10/SBC.png
END:VEVENT
BEGIN:VEVENT
DTSTART;TZID=America/Chicago:20260625T190000
DTEND;TZID=America/Chicago:20260625T210000
DTSTAMP:20260419T203159
CREATED:20241024T193455Z
LAST-MODIFIED:20241024T193924Z
UID:10000280-1782414000-1782421200@equalpartsbrewing.com
SUMMARY:Run Club
DESCRIPTION:Meeting every Thursday at 7:00 PM\, taking off from Equal Parts Brewery. Join us for a 3ish mile run and stay for refreshments🍻
URL:https://equalpartsbrewing.com/event/run-club/2026-06-25/
LOCATION:TX
CATEGORIES:run club
ATTACH;FMTTYPE=image/png:https://equalpartsbrewing.com/wp-content/uploads/2024/10/Run-Club.png
END:VEVENT
BEGIN:VEVENT
DTSTART;TZID=America/Chicago:20260626T160000
DTEND;TZID=America/Chicago:20260626T180000
DTSTAMP:20260419T203159
CREATED:20241024T200512Z
LAST-MODIFIED:20241024T200512Z
UID:10000545-1782489600-1782496800@equalpartsbrewing.com
SUMMARY:No Jacket Required
DESCRIPTION:No Jacket Required is our Phil Collins Friday happy hour! Enjoy $2 off all drafts from 4pm-6pm and $1 off slow pours!
URL:https://equalpartsbrewing.com/event/no-jacket-required/2026-06-26/
LOCATION:TX
ATTACH;FMTTYPE=image/png:https://equalpartsbrewing.com/wp-content/uploads/2024/10/NJR.png
END:VEVENT
BEGIN:VEVENT
DTSTART;TZID=America/Chicago:20260702T190000
DTEND;TZID=America/Chicago:20260702T210000
DTSTAMP:20260419T203159
CREATED:20241024T193455Z
LAST-MODIFIED:20241024T193924Z
UID:10000281-1783018800-1783026000@equalpartsbrewing.com
SUMMARY:Run Club
DESCRIPTION:Meeting every Thursday at 7:00 PM\, taking off from Equal Parts Brewery. Join us for a 3ish mile run and stay for refreshments🍻
URL:https://equalpartsbrewing.com/event/run-club/2026-07-02/
LOCATION:TX
CATEGORIES:run club
ATTACH;FMTTYPE=image/png:https://equalpartsbrewing.com/wp-content/uploads/2024/10/Run-Club.png
END:VEVENT
BEGIN:VEVENT
DTSTART;TZID=America/Chicago:20260703T160000
DTEND;TZID=America/Chicago:20260703T180000
DTSTAMP:20260419T203159
CREATED:20241024T200512Z
LAST-MODIFIED:20241024T200512Z
UID:10000546-1783094400-1783101600@equalpartsbrewing.com
SUMMARY:No Jacket Required
DESCRIPTION:No Jacket Required is our Phil Collins Friday happy hour! Enjoy $2 off all drafts from 4pm-6pm and $1 off slow pours!
URL:https://equalpartsbrewing.com/event/no-jacket-required/2026-07-03/
LOCATION:TX
ATTACH;FMTTYPE=image/png:https://equalpartsbrewing.com/wp-content/uploads/2024/10/NJR.png
END:VEVENT
BEGIN:VEVENT
DTSTART;TZID=America/Chicago:20260709T190000
DTEND;TZID=America/Chicago:20260709T210000
DTSTAMP:20260419T203159
CREATED:20241024T193455Z
LAST-MODIFIED:20241024T193924Z
UID:10000282-1783623600-1783630800@equalpartsbrewing.com
SUMMARY:Run Club
DESCRIPTION:Meeting every Thursday at 7:00 PM\, taking off from Equal Parts Brewery. Join us for a 3ish mile run and stay for refreshments🍻
URL:https://equalpartsbrewing.com/event/run-club/2026-07-09/
LOCATION:TX
CATEGORIES:run club
ATTACH;FMTTYPE=image/png:https://equalpartsbrewing.com/wp-content/uploads/2024/10/Run-Club.png
END:VEVENT
BEGIN:VEVENT
DTSTART;TZID=America/Chicago:20260710T160000
DTEND;TZID=America/Chicago:20260710T180000
DTSTAMP:20260419T203159
CREATED:20241024T200512Z
LAST-MODIFIED:20241024T200512Z
UID:10000547-1783699200-1783706400@equalpartsbrewing.com
SUMMARY:No Jacket Required
DESCRIPTION:No Jacket Required is our Phil Collins Friday happy hour! Enjoy $2 off all drafts from 4pm-6pm and $1 off slow pours!
URL:https://equalpartsbrewing.com/event/no-jacket-required/2026-07-10/
LOCATION:TX
ATTACH;FMTTYPE=image/png:https://equalpartsbrewing.com/wp-content/uploads/2024/10/NJR.png
END:VEVENT
BEGIN:VEVENT
DTSTART;TZID=America/Chicago:20260716T190000
DTEND;TZID=America/Chicago:20260716T210000
DTSTAMP:20260419T203159
CREATED:20241024T193455Z
LAST-MODIFIED:20241024T193924Z
UID:10000283-1784228400-1784235600@equalpartsbrewing.com
SUMMARY:Run Club
DESCRIPTION:Meeting every Thursday at 7:00 PM\, taking off from Equal Parts Brewery. Join us for a 3ish mile run and stay for refreshments🍻
URL:https://equalpartsbrewing.com/event/run-club/2026-07-16/
LOCATION:TX
CATEGORIES:run club
ATTACH;FMTTYPE=image/png:https://equalpartsbrewing.com/wp-content/uploads/2024/10/Run-Club.png
END:VEVENT
BEGIN:VEVENT
DTSTART;TZID=America/Chicago:20260717T160000
DTEND;TZID=America/Chicago:20260717T180000
DTSTAMP:20260419T203159
CREATED:20241024T200512Z
LAST-MODIFIED:20241024T200512Z
UID:10000548-1784304000-1784311200@equalpartsbrewing.com
SUMMARY:No Jacket Required
DESCRIPTION:No Jacket Required is our Phil Collins Friday happy hour! Enjoy $2 off all drafts from 4pm-6pm and $1 off slow pours!
URL:https://equalpartsbrewing.com/event/no-jacket-required/2026-07-17/
LOCATION:TX
ATTACH;FMTTYPE=image/png:https://equalpartsbrewing.com/wp-content/uploads/2024/10/NJR.png
END:VEVENT
BEGIN:VEVENT
DTSTART;TZID=America/Chicago:20260719T120000
DTEND;TZID=America/Chicago:20260719T140000
DTSTAMP:20260419T203159
CREATED:20241024T192830Z
LAST-MODIFIED:20241024T192830Z
UID:10000153-1784462400-1784469600@equalpartsbrewing.com
SUMMARY:Silent Book Club
DESCRIPTION:Bring what you are currently reading\, meet other book obsessed people and enjoy some tasty drinks! \n12-2pm
URL:https://equalpartsbrewing.com/event/silent-book-club/2026-07-19/
LOCATION:TX
CATEGORIES:art & culture
ATTACH;FMTTYPE=image/png:https://equalpartsbrewing.com/wp-content/uploads/2024/10/SBC.png
END:VEVENT
BEGIN:VEVENT
DTSTART;TZID=America/Chicago:20260723T190000
DTEND;TZID=America/Chicago:20260723T210000
DTSTAMP:20260419T203159
CREATED:20241024T193455Z
LAST-MODIFIED:20241024T193924Z
UID:10000284-1784833200-1784840400@equalpartsbrewing.com
SUMMARY:Run Club
DESCRIPTION:Meeting every Thursday at 7:00 PM\, taking off from Equal Parts Brewery. Join us for a 3ish mile run and stay for refreshments🍻
URL:https://equalpartsbrewing.com/event/run-club/2026-07-23/
LOCATION:TX
CATEGORIES:run club
ATTACH;FMTTYPE=image/png:https://equalpartsbrewing.com/wp-content/uploads/2024/10/Run-Club.png
END:VEVENT
END:VCALENDAR