BEGIN:VCALENDAR
VERSION:2.0
PRODID:-//Equal Parts Brewing - ECPv6.15.17.1//NONSGML v1.0//EN
CALSCALE:GREGORIAN
METHOD:PUBLISH
X-ORIGINAL-URL:https://equalpartsbrewing.com
X-WR-CALDESC:Events for Equal Parts Brewing
REFRESH-INTERVAL;VALUE=DURATION:PT1H
X-Robots-Tag:noindex
X-PUBLISHED-TTL:PT1H
BEGIN:VTIMEZONE
TZID:America/Chicago
BEGIN:DAYLIGHT
TZOFFSETFROM:-0600
TZOFFSETTO:-0500
TZNAME:CDT
DTSTART:20250309T080000
END:DAYLIGHT
BEGIN:STANDARD
TZOFFSETFROM:-0500
TZOFFSETTO:-0600
TZNAME:CST
DTSTART:20251102T070000
END:STANDARD
BEGIN:DAYLIGHT
TZOFFSETFROM:-0600
TZOFFSETTO:-0500
TZNAME:CDT
DTSTART:20260308T080000
END:DAYLIGHT
BEGIN:STANDARD
TZOFFSETFROM:-0500
TZOFFSETTO:-0600
TZNAME:CST
DTSTART:20261101T070000
END:STANDARD
BEGIN:DAYLIGHT
TZOFFSETFROM:-0600
TZOFFSETTO:-0500
TZNAME:CDT
DTSTART:20270314T080000
END:DAYLIGHT
BEGIN:STANDARD
TZOFFSETFROM:-0500
TZOFFSETTO:-0600
TZNAME:CST
DTSTART:20271107T070000
END:STANDARD
END:VTIMEZONE
BEGIN:VEVENT
DTSTART;TZID=America/Chicago:20260419T120000
DTEND;TZID=America/Chicago:20260419T140000
DTSTAMP:20260419T220035
CREATED:20241024T192830Z
LAST-MODIFIED:20241024T192830Z
UID:10000150-1776600000-1776607200@equalpartsbrewing.com
SUMMARY:Silent Book Club
DESCRIPTION:Bring what you are currently reading\, meet other book obsessed people and enjoy some tasty drinks! \n12-2pm
URL:https://equalpartsbrewing.com/event/silent-book-club/2026-04-19/
LOCATION:TX
CATEGORIES:art & culture
ATTACH;FMTTYPE=image/png:https://equalpartsbrewing.com/wp-content/uploads/2024/10/SBC.png
END:VEVENT
BEGIN:VEVENT
DTSTART;TZID=America/Chicago:20260417T160000
DTEND;TZID=America/Chicago:20260417T180000
DTSTAMP:20260419T220035
CREATED:20241024T200512Z
LAST-MODIFIED:20241024T200512Z
UID:10000535-1776441600-1776448800@equalpartsbrewing.com
SUMMARY:No Jacket Required
DESCRIPTION:No Jacket Required is our Phil Collins Friday happy hour! Enjoy $2 off all drafts from 4pm-6pm and $1 off slow pours!
URL:https://equalpartsbrewing.com/event/no-jacket-required/2026-04-17/
LOCATION:TX
ATTACH;FMTTYPE=image/png:https://equalpartsbrewing.com/wp-content/uploads/2024/10/NJR.png
END:VEVENT
BEGIN:VEVENT
DTSTART;TZID=America/Chicago:20260416T190000
DTEND;TZID=America/Chicago:20260416T210000
DTSTAMP:20260419T220035
CREATED:20241024T193455Z
LAST-MODIFIED:20241024T193924Z
UID:10000270-1776366000-1776373200@equalpartsbrewing.com
SUMMARY:Run Club
DESCRIPTION:Meeting every Thursday at 7:00 PM\, taking off from Equal Parts Brewery. Join us for a 3ish mile run and stay for refreshments🍻
URL:https://equalpartsbrewing.com/event/run-club/2026-04-16/
LOCATION:TX
CATEGORIES:run club
ATTACH;FMTTYPE=image/png:https://equalpartsbrewing.com/wp-content/uploads/2024/10/Run-Club.png
END:VEVENT
BEGIN:VEVENT
DTSTART;TZID=America/Chicago:20260410T160000
DTEND;TZID=America/Chicago:20260410T180000
DTSTAMP:20260419T220035
CREATED:20241024T200512Z
LAST-MODIFIED:20241024T200512Z
UID:10000534-1775836800-1775844000@equalpartsbrewing.com
SUMMARY:No Jacket Required
DESCRIPTION:No Jacket Required is our Phil Collins Friday happy hour! Enjoy $2 off all drafts from 4pm-6pm and $1 off slow pours!
URL:https://equalpartsbrewing.com/event/no-jacket-required/2026-04-10/
LOCATION:TX
ATTACH;FMTTYPE=image/png:https://equalpartsbrewing.com/wp-content/uploads/2024/10/NJR.png
END:VEVENT
BEGIN:VEVENT
DTSTART;TZID=America/Chicago:20260409T190000
DTEND;TZID=America/Chicago:20260409T210000
DTSTAMP:20260419T220035
CREATED:20241024T193455Z
LAST-MODIFIED:20241024T193924Z
UID:10000269-1775761200-1775768400@equalpartsbrewing.com
SUMMARY:Run Club
DESCRIPTION:Meeting every Thursday at 7:00 PM\, taking off from Equal Parts Brewery. Join us for a 3ish mile run and stay for refreshments🍻
URL:https://equalpartsbrewing.com/event/run-club/2026-04-09/
LOCATION:TX
CATEGORIES:run club
ATTACH;FMTTYPE=image/png:https://equalpartsbrewing.com/wp-content/uploads/2024/10/Run-Club.png
END:VEVENT
BEGIN:VEVENT
DTSTART;TZID=America/Chicago:20260403T160000
DTEND;TZID=America/Chicago:20260403T180000
DTSTAMP:20260419T220035
CREATED:20241024T200512Z
LAST-MODIFIED:20241024T200512Z
UID:10000533-1775232000-1775239200@equalpartsbrewing.com
SUMMARY:No Jacket Required
DESCRIPTION:No Jacket Required is our Phil Collins Friday happy hour! Enjoy $2 off all drafts from 4pm-6pm and $1 off slow pours!
URL:https://equalpartsbrewing.com/event/no-jacket-required/2026-04-03/
LOCATION:TX
ATTACH;FMTTYPE=image/png:https://equalpartsbrewing.com/wp-content/uploads/2024/10/NJR.png
END:VEVENT
BEGIN:VEVENT
DTSTART;TZID=America/Chicago:20260402T190000
DTEND;TZID=America/Chicago:20260402T210000
DTSTAMP:20260419T220035
CREATED:20241024T193455Z
LAST-MODIFIED:20241024T193924Z
UID:10000268-1775156400-1775163600@equalpartsbrewing.com
SUMMARY:Run Club
DESCRIPTION:Meeting every Thursday at 7:00 PM\, taking off from Equal Parts Brewery. Join us for a 3ish mile run and stay for refreshments🍻
URL:https://equalpartsbrewing.com/event/run-club/2026-04-02/
LOCATION:TX
CATEGORIES:run club
ATTACH;FMTTYPE=image/png:https://equalpartsbrewing.com/wp-content/uploads/2024/10/Run-Club.png
END:VEVENT
BEGIN:VEVENT
DTSTART;TZID=America/Chicago:20260327T160000
DTEND;TZID=America/Chicago:20260327T180000
DTSTAMP:20260419T220035
CREATED:20241024T200512Z
LAST-MODIFIED:20241024T200512Z
UID:10000532-1774627200-1774634400@equalpartsbrewing.com
SUMMARY:No Jacket Required
DESCRIPTION:No Jacket Required is our Phil Collins Friday happy hour! Enjoy $2 off all drafts from 4pm-6pm and $1 off slow pours!
URL:https://equalpartsbrewing.com/event/no-jacket-required/2026-03-27/
LOCATION:TX
ATTACH;FMTTYPE=image/png:https://equalpartsbrewing.com/wp-content/uploads/2024/10/NJR.png
END:VEVENT
BEGIN:VEVENT
DTSTART;TZID=America/Chicago:20260326T190000
DTEND;TZID=America/Chicago:20260326T210000
DTSTAMP:20260419T220035
CREATED:20241024T193455Z
LAST-MODIFIED:20241024T193924Z
UID:10000267-1774551600-1774558800@equalpartsbrewing.com
SUMMARY:Run Club
DESCRIPTION:Meeting every Thursday at 7:00 PM\, taking off from Equal Parts Brewery. Join us for a 3ish mile run and stay for refreshments🍻
URL:https://equalpartsbrewing.com/event/run-club/2026-03-26/
LOCATION:TX
CATEGORIES:run club
ATTACH;FMTTYPE=image/png:https://equalpartsbrewing.com/wp-content/uploads/2024/10/Run-Club.png
END:VEVENT
BEGIN:VEVENT
DTSTART;TZID=America/Chicago:20260320T160000
DTEND;TZID=America/Chicago:20260320T180000
DTSTAMP:20260419T220035
CREATED:20241024T200512Z
LAST-MODIFIED:20241024T200512Z
UID:10000531-1774022400-1774029600@equalpartsbrewing.com
SUMMARY:No Jacket Required
DESCRIPTION:No Jacket Required is our Phil Collins Friday happy hour! Enjoy $2 off all drafts from 4pm-6pm and $1 off slow pours!
URL:https://equalpartsbrewing.com/event/no-jacket-required/2026-03-20/
LOCATION:TX
ATTACH;FMTTYPE=image/png:https://equalpartsbrewing.com/wp-content/uploads/2024/10/NJR.png
END:VEVENT
BEGIN:VEVENT
DTSTART;TZID=America/Chicago:20260319T190000
DTEND;TZID=America/Chicago:20260319T210000
DTSTAMP:20260419T220035
CREATED:20241024T193455Z
LAST-MODIFIED:20241024T193924Z
UID:10000266-1773946800-1773954000@equalpartsbrewing.com
SUMMARY:Run Club
DESCRIPTION:Meeting every Thursday at 7:00 PM\, taking off from Equal Parts Brewery. Join us for a 3ish mile run and stay for refreshments🍻
URL:https://equalpartsbrewing.com/event/run-club/2026-03-19/
LOCATION:TX
CATEGORIES:run club
ATTACH;FMTTYPE=image/png:https://equalpartsbrewing.com/wp-content/uploads/2024/10/Run-Club.png
END:VEVENT
BEGIN:VEVENT
DTSTART;TZID=America/Chicago:20260315T120000
DTEND;TZID=America/Chicago:20260315T140000
DTSTAMP:20260419T220035
CREATED:20241024T192830Z
LAST-MODIFIED:20241024T192830Z
UID:10000149-1773576000-1773583200@equalpartsbrewing.com
SUMMARY:Silent Book Club
DESCRIPTION:Bring what you are currently reading\, meet other book obsessed people and enjoy some tasty drinks! \n12-2pm
URL:https://equalpartsbrewing.com/event/silent-book-club/2026-03-15/
LOCATION:TX
CATEGORIES:art & culture
ATTACH;FMTTYPE=image/png:https://equalpartsbrewing.com/wp-content/uploads/2024/10/SBC.png
END:VEVENT
BEGIN:VEVENT
DTSTART;TZID=America/Chicago:20260313T160000
DTEND;TZID=America/Chicago:20260313T180000
DTSTAMP:20260419T220035
CREATED:20241024T200512Z
LAST-MODIFIED:20241024T200512Z
UID:10000530-1773417600-1773424800@equalpartsbrewing.com
SUMMARY:No Jacket Required
DESCRIPTION:No Jacket Required is our Phil Collins Friday happy hour! Enjoy $2 off all drafts from 4pm-6pm and $1 off slow pours!
URL:https://equalpartsbrewing.com/event/no-jacket-required/2026-03-13/
LOCATION:TX
ATTACH;FMTTYPE=image/png:https://equalpartsbrewing.com/wp-content/uploads/2024/10/NJR.png
END:VEVENT
BEGIN:VEVENT
DTSTART;TZID=America/Chicago:20260312T190000
DTEND;TZID=America/Chicago:20260312T210000
DTSTAMP:20260419T220035
CREATED:20241024T193455Z
LAST-MODIFIED:20241024T193924Z
UID:10000265-1773342000-1773349200@equalpartsbrewing.com
SUMMARY:Run Club
DESCRIPTION:Meeting every Thursday at 7:00 PM\, taking off from Equal Parts Brewery. Join us for a 3ish mile run and stay for refreshments🍻
URL:https://equalpartsbrewing.com/event/run-club/2026-03-12/
LOCATION:TX
CATEGORIES:run club
ATTACH;FMTTYPE=image/png:https://equalpartsbrewing.com/wp-content/uploads/2024/10/Run-Club.png
END:VEVENT
BEGIN:VEVENT
DTSTART;TZID=America/Chicago:20260306T160000
DTEND;TZID=America/Chicago:20260306T180000
DTSTAMP:20260419T220035
CREATED:20241024T200512Z
LAST-MODIFIED:20241024T200512Z
UID:10000529-1772812800-1772820000@equalpartsbrewing.com
SUMMARY:No Jacket Required
DESCRIPTION:No Jacket Required is our Phil Collins Friday happy hour! Enjoy $2 off all drafts from 4pm-6pm and $1 off slow pours!
URL:https://equalpartsbrewing.com/event/no-jacket-required/2026-03-06/
LOCATION:TX
ATTACH;FMTTYPE=image/png:https://equalpartsbrewing.com/wp-content/uploads/2024/10/NJR.png
END:VEVENT
BEGIN:VEVENT
DTSTART;TZID=America/Chicago:20260305T190000
DTEND;TZID=America/Chicago:20260305T210000
DTSTAMP:20260419T220035
CREATED:20241024T193455Z
LAST-MODIFIED:20241024T193924Z
UID:10000264-1772737200-1772744400@equalpartsbrewing.com
SUMMARY:Run Club
DESCRIPTION:Meeting every Thursday at 7:00 PM\, taking off from Equal Parts Brewery. Join us for a 3ish mile run and stay for refreshments🍻
URL:https://equalpartsbrewing.com/event/run-club/2026-03-05/
LOCATION:TX
CATEGORIES:run club
ATTACH;FMTTYPE=image/png:https://equalpartsbrewing.com/wp-content/uploads/2024/10/Run-Club.png
END:VEVENT
BEGIN:VEVENT
DTSTART;TZID=America/Chicago:20260227T160000
DTEND;TZID=America/Chicago:20260227T180000
DTSTAMP:20260419T220035
CREATED:20241024T200512Z
LAST-MODIFIED:20241024T200512Z
UID:10000528-1772208000-1772215200@equalpartsbrewing.com
SUMMARY:No Jacket Required
DESCRIPTION:No Jacket Required is our Phil Collins Friday happy hour! Enjoy $2 off all drafts from 4pm-6pm and $1 off slow pours!
URL:https://equalpartsbrewing.com/event/no-jacket-required/2026-02-27/
LOCATION:TX
ATTACH;FMTTYPE=image/png:https://equalpartsbrewing.com/wp-content/uploads/2024/10/NJR.png
END:VEVENT
BEGIN:VEVENT
DTSTART;TZID=America/Chicago:20260226T190000
DTEND;TZID=America/Chicago:20260226T210000
DTSTAMP:20260419T220035
CREATED:20241024T193455Z
LAST-MODIFIED:20241024T193924Z
UID:10000263-1772132400-1772139600@equalpartsbrewing.com
SUMMARY:Run Club
DESCRIPTION:Meeting every Thursday at 7:00 PM\, taking off from Equal Parts Brewery. Join us for a 3ish mile run and stay for refreshments🍻
URL:https://equalpartsbrewing.com/event/run-club/2026-02-26/
LOCATION:TX
CATEGORIES:run club
ATTACH;FMTTYPE=image/png:https://equalpartsbrewing.com/wp-content/uploads/2024/10/Run-Club.png
END:VEVENT
BEGIN:VEVENT
DTSTART;TZID=America/Chicago:20260220T160000
DTEND;TZID=America/Chicago:20260220T180000
DTSTAMP:20260419T220035
CREATED:20241024T200512Z
LAST-MODIFIED:20241024T200512Z
UID:10000527-1771603200-1771610400@equalpartsbrewing.com
SUMMARY:No Jacket Required
DESCRIPTION:No Jacket Required is our Phil Collins Friday happy hour! Enjoy $2 off all drafts from 4pm-6pm and $1 off slow pours!
URL:https://equalpartsbrewing.com/event/no-jacket-required/2026-02-20/
LOCATION:TX
ATTACH;FMTTYPE=image/png:https://equalpartsbrewing.com/wp-content/uploads/2024/10/NJR.png
END:VEVENT
BEGIN:VEVENT
DTSTART;TZID=America/Chicago:20260219T190000
DTEND;TZID=America/Chicago:20260219T210000
DTSTAMP:20260419T220035
CREATED:20241024T193455Z
LAST-MODIFIED:20241024T193924Z
UID:10000262-1771527600-1771534800@equalpartsbrewing.com
SUMMARY:Run Club
DESCRIPTION:Meeting every Thursday at 7:00 PM\, taking off from Equal Parts Brewery. Join us for a 3ish mile run and stay for refreshments🍻
URL:https://equalpartsbrewing.com/event/run-club/2026-02-19/
LOCATION:TX
CATEGORIES:run club
ATTACH;FMTTYPE=image/png:https://equalpartsbrewing.com/wp-content/uploads/2024/10/Run-Club.png
END:VEVENT
BEGIN:VEVENT
DTSTART;TZID=America/Chicago:20260215T120000
DTEND;TZID=America/Chicago:20260215T140000
DTSTAMP:20260419T220035
CREATED:20241024T192830Z
LAST-MODIFIED:20241024T192830Z
UID:10000148-1771156800-1771164000@equalpartsbrewing.com
SUMMARY:Silent Book Club
DESCRIPTION:Bring what you are currently reading\, meet other book obsessed people and enjoy some tasty drinks! \n12-2pm
URL:https://equalpartsbrewing.com/event/silent-book-club/2026-02-15/
LOCATION:TX
CATEGORIES:art & culture
ATTACH;FMTTYPE=image/png:https://equalpartsbrewing.com/wp-content/uploads/2024/10/SBC.png
END:VEVENT
BEGIN:VEVENT
DTSTART;TZID=America/Chicago:20260213T160000
DTEND;TZID=America/Chicago:20260213T180000
DTSTAMP:20260419T220035
CREATED:20241024T200512Z
LAST-MODIFIED:20241024T200512Z
UID:10000526-1770998400-1771005600@equalpartsbrewing.com
SUMMARY:No Jacket Required
DESCRIPTION:No Jacket Required is our Phil Collins Friday happy hour! Enjoy $2 off all drafts from 4pm-6pm and $1 off slow pours!
URL:https://equalpartsbrewing.com/event/no-jacket-required/2026-02-13/
LOCATION:TX
ATTACH;FMTTYPE=image/png:https://equalpartsbrewing.com/wp-content/uploads/2024/10/NJR.png
END:VEVENT
BEGIN:VEVENT
DTSTART;TZID=America/Chicago:20260212T190000
DTEND;TZID=America/Chicago:20260212T210000
DTSTAMP:20260419T220035
CREATED:20241024T193455Z
LAST-MODIFIED:20241024T193924Z
UID:10000261-1770922800-1770930000@equalpartsbrewing.com
SUMMARY:Run Club
DESCRIPTION:Meeting every Thursday at 7:00 PM\, taking off from Equal Parts Brewery. Join us for a 3ish mile run and stay for refreshments🍻
URL:https://equalpartsbrewing.com/event/run-club/2026-02-12/
LOCATION:TX
CATEGORIES:run club
ATTACH;FMTTYPE=image/png:https://equalpartsbrewing.com/wp-content/uploads/2024/10/Run-Club.png
END:VEVENT
BEGIN:VEVENT
DTSTART;TZID=America/Chicago:20260206T160000
DTEND;TZID=America/Chicago:20260206T180000
DTSTAMP:20260419T220035
CREATED:20241024T200512Z
LAST-MODIFIED:20241024T200512Z
UID:10000525-1770393600-1770400800@equalpartsbrewing.com
SUMMARY:No Jacket Required
DESCRIPTION:No Jacket Required is our Phil Collins Friday happy hour! Enjoy $2 off all drafts from 4pm-6pm and $1 off slow pours!
URL:https://equalpartsbrewing.com/event/no-jacket-required/2026-02-06/
LOCATION:TX
ATTACH;FMTTYPE=image/png:https://equalpartsbrewing.com/wp-content/uploads/2024/10/NJR.png
END:VEVENT
BEGIN:VEVENT
DTSTART;TZID=America/Chicago:20260205T190000
DTEND;TZID=America/Chicago:20260205T210000
DTSTAMP:20260419T220035
CREATED:20241024T193455Z
LAST-MODIFIED:20241024T193924Z
UID:10000260-1770318000-1770325200@equalpartsbrewing.com
SUMMARY:Run Club
DESCRIPTION:Meeting every Thursday at 7:00 PM\, taking off from Equal Parts Brewery. Join us for a 3ish mile run and stay for refreshments🍻
URL:https://equalpartsbrewing.com/event/run-club/2026-02-05/
LOCATION:TX
CATEGORIES:run club
ATTACH;FMTTYPE=image/png:https://equalpartsbrewing.com/wp-content/uploads/2024/10/Run-Club.png
END:VEVENT
BEGIN:VEVENT
DTSTART;TZID=America/Chicago:20260130T160000
DTEND;TZID=America/Chicago:20260130T180000
DTSTAMP:20260419T220035
CREATED:20241024T200512Z
LAST-MODIFIED:20241024T200512Z
UID:10000524-1769788800-1769796000@equalpartsbrewing.com
SUMMARY:No Jacket Required
DESCRIPTION:No Jacket Required is our Phil Collins Friday happy hour! Enjoy $2 off all drafts from 4pm-6pm and $1 off slow pours!
URL:https://equalpartsbrewing.com/event/no-jacket-required/2026-01-30/
LOCATION:TX
ATTACH;FMTTYPE=image/png:https://equalpartsbrewing.com/wp-content/uploads/2024/10/NJR.png
END:VEVENT
BEGIN:VEVENT
DTSTART;TZID=America/Chicago:20260129T190000
DTEND;TZID=America/Chicago:20260129T210000
DTSTAMP:20260419T220035
CREATED:20241024T193455Z
LAST-MODIFIED:20241024T193924Z
UID:10000259-1769713200-1769720400@equalpartsbrewing.com
SUMMARY:Run Club
DESCRIPTION:Meeting every Thursday at 7:00 PM\, taking off from Equal Parts Brewery. Join us for a 3ish mile run and stay for refreshments🍻
URL:https://equalpartsbrewing.com/event/run-club/2026-01-29/
LOCATION:TX
CATEGORIES:run club
ATTACH;FMTTYPE=image/png:https://equalpartsbrewing.com/wp-content/uploads/2024/10/Run-Club.png
END:VEVENT
BEGIN:VEVENT
DTSTART;TZID=America/Chicago:20260125T120000
DTEND;TZID=America/Chicago:20260125T130000
DTSTAMP:20260419T220035
CREATED:20250113T172525Z
LAST-MODIFIED:20250319T212047Z
UID:10000756-1769342400-1769346000@equalpartsbrewing.com
SUMMARY:Elemental Flow Yoga  | 4th Sundays
DESCRIPTION:Join us for a relaxing and rejuvenating yoga session indoors at Equal Parts Brewing! \nWhether you’re a seasoned yogi or a newbie\, this flow is perfect for all levels and ages. Get ready to stretch\, breathe\, and find your zen in a welcoming and inclusive environment.  Enter the raffle to win prizes and everyone goes home with a gift bag. \nAfter the class\, stick around to enjoy some delicious brews and good company. \nTickets are $15 and can be found here: \nCome early to mingle and settle into your spot.   Bring your friends\, family\, yoga mat and water bottle.  Go home with a gift bag too. \nCan’t wait to flow with you! \n 
URL:https://equalpartsbrewing.com/event/yoga-sueno-4th-sunday-3/2026-01-25/
LOCATION:Equal Parts Brewing\, 3118 Harrisburg Blvd\, Houston\, TX\, 77003
CATEGORIES:yoga
ATTACH;FMTTYPE=image/jpeg:https://equalpartsbrewing.com/wp-content/uploads/2025/01/F0C45745-D476-4F4A-B56C-6B7428E5BFB4.jpg
END:VEVENT
BEGIN:VEVENT
DTSTART;TZID=America/Chicago:20260123T160000
DTEND;TZID=America/Chicago:20260123T180000
DTSTAMP:20260419T220035
CREATED:20241024T200512Z
LAST-MODIFIED:20241024T200512Z
UID:10000523-1769184000-1769191200@equalpartsbrewing.com
SUMMARY:No Jacket Required
DESCRIPTION:No Jacket Required is our Phil Collins Friday happy hour! Enjoy $2 off all drafts from 4pm-6pm and $1 off slow pours!
URL:https://equalpartsbrewing.com/event/no-jacket-required/2026-01-23/
LOCATION:TX
ATTACH;FMTTYPE=image/png:https://equalpartsbrewing.com/wp-content/uploads/2024/10/NJR.png
END:VEVENT
BEGIN:VEVENT
DTSTART;TZID=America/Chicago:20260122T190000
DTEND;TZID=America/Chicago:20260122T210000
DTSTAMP:20260419T220035
CREATED:20241024T193455Z
LAST-MODIFIED:20241024T193924Z
UID:10000258-1769108400-1769115600@equalpartsbrewing.com
SUMMARY:Run Club
DESCRIPTION:Meeting every Thursday at 7:00 PM\, taking off from Equal Parts Brewery. Join us for a 3ish mile run and stay for refreshments🍻
URL:https://equalpartsbrewing.com/event/run-club/2026-01-22/
LOCATION:TX
CATEGORIES:run club
ATTACH;FMTTYPE=image/png:https://equalpartsbrewing.com/wp-content/uploads/2024/10/Run-Club.png
END:VEVENT
END:VCALENDAR